BEGIN:VCALENDAR
VERSION:2.0
PRODID:-//eventon.com NONSGML v1.0//EN
BEGIN:VEVENT
UID:69e7b88aec2ec
DTSTAMP:20260421T194858
DTSTART:20210701T180000Z
DTEND:20210701T223000Z
TZID:Europe/Berlin
LOCATION:La Cucina del Sole Warmondstraat 180 1058 LC Amsterdam
SUMMARY:KOKEN MET ITALIAANSE WIJN
DESCRIPTION: Ben je dol op Italiaans eten en wijn en wil je je geliefde verrassen met een smakelijke&nbsp;date night? Of wil je&nbsp;heerlijke recepten leren maken&nbsp;die je dan thuis voor je lieverd kunt bereiden?Kom met ons koken op deze “boozy” date night! We zullen een aantal prachtige gerechten bereiden die bedacht zijn[..]\nhttps://www.cucinadelsole.nl/events/cooking-with-italian-wine-2/
URL:https://www.cucinadelsole.nl/events/cooking-with-italian-wine-2/
END:VEVENT
END:VCALENDAR