BEGIN:VCALENDAR
VERSION:2.0
PRODID:-//eventon.com NONSGML v1.0//EN
BEGIN:VEVENT
UID:69e7a356b2d47
DTSTAMP:20260421T181830
DTSTART:20210902T180000Z
DTEND:20210902T223000Z
TZID:Europe/Berlin
LOCATION:La Cucina del Sole Warmondstraat 180 1058 LC Amsterdam
SUMMARY:THE TUSCAN CUISINE
DESCRIPTION: This cooking workshop celebrates the Tuscan cuisine\,  loved worldwide because of its simple and yet amazing dishes.We prepare two types of crostini (green ones with a tangy herbal pesto and red ones with a spicy tomato and beans cream). The main dish is wonderful crespelle alla fiorentina (thin crêpes stuffed with ricotta and spinach in tomato[..]\nhttps://www.cucinadelsole.nl/events/the-tuscan-cuisine-2/
URL:https://www.cucinadelsole.nl/events/the-tuscan-cuisine-2/
END:VEVENT
END:VCALENDAR