BEGIN:VCALENDAR
VERSION:2.0
PRODID:-//eventon.com NONSGML v1.0//EN
BEGIN:VEVENT
UID:69e79444357f2
DTSTAMP:20260421T171412
DTSTART:20210812T180000Z
DTEND:20210812T223000Z
TZID:Europe/Berlin
LOCATION:La Cucina del Sole Warmondstraat 180 1058 LC Amsterdam
SUMMARY:DE VEGANISTISCHE ITALIAANSE KEUKEN
DESCRIPTION: De recepten zijn perfect voor degenen die nooit van vlees hebben gehouden en ook voor wie er wel van houdt (we zullen een aantal fantastische\,  volledig natuurlijke alternatieven gebruiken die je smaakpapillen happy zullen maken). We bereiden o.a.:&nbsp;zelfgemaakte havermelk\,  een heerlijke&nbsp;sandwichspread&nbsp;voor een snel ontbijtje of lunch (je neemt ook een[..]\nhttps://www.cucinadelsole.nl/events/the-vegan-italian-cuisine/
URL:https://www.cucinadelsole.nl/events/the-vegan-italian-cuisine/
END:VEVENT
END:VCALENDAR