BEGIN:VCALENDAR
VERSION:2.0
PRODID:-//eventon.com NONSGML v1.0//EN
BEGIN:VEVENT
UID:69e77afcd1a7c
DTSTAMP:20260421T152620
DTSTART:20210812T180000Z
DTEND:20210812T223000Z
TZID:Europe/Berlin
LOCATION:La Cucina del Sole Warmondstraat 180 1058 LC Amsterdam
SUMMARY:THE VEGAN ITALIAN CUISINE
DESCRIPTION: The recipes are perfect for those who never really liked meat and also for those who love it and miss it (we will use some great\,  totally natural substitutes that are going to satisfy you completely). We will prepare:&nbsp;home-made oat milk\,  a tasty&nbsp;sandwich spread&nbsp;for a quick breakfast or lunch (you’ll[..]\nhttps://www.cucinadelsole.nl/events/the-vegan-italian-cuisine/
URL:https://www.cucinadelsole.nl/events/the-vegan-italian-cuisine/
END:VEVENT
END:VCALENDAR