BEGIN:VCALENDAR
VERSION:2.0
PRODID:-//eventon.com NONSGML v1.0//EN
BEGIN:VEVENT
UID:69e77a7484fde
DTSTAMP:20260421T152404
DTSTART:20210707T180000Z
DTEND:20210707T223000Z
TZID:Europe/Berlin
LOCATION:La Cucina del Sole Warmondstraat 180 1058 LC Amsterdam
SUMMARY:Puur & Gezond Italiaans Koken
DESCRIPTION: Als je gezonder wilt eten en inspiratie nodig hebt om licht en toch smakelijk én milieubewuster te koken dan is deze workshop voor jou:&nbsp;de&nbsp;Italiaanse keuken zonder tarwe\,  gluten\,  vlees\,  vis\,  koemelk en toegevoegde suiker. En toch heel lekker! We maken&nbsp;glutenvrije pasta’s en andere heerlijke hoofdgerechten\,  spannende groentegerechten en heerlijke desserts[..]\nhttps://www.cucinadelsole.nl/events/pure-healthy-italian-cooking-2/
URL:https://www.cucinadelsole.nl/events/pure-healthy-italian-cooking-2/
END:VEVENT
END:VCALENDAR