BEGIN:VCALENDAR
VERSION:2.0
PRODID:-//eventon.com NONSGML v1.0//EN
BEGIN:VEVENT
UID:69e777b5e81d1
DTSTAMP:20260421T151221
DTSTART:20210707T180000Z
DTEND:20210707T223000Z
TZID:Europe/Berlin
LOCATION:La Cucina del Sole Warmondstraat 180 1058 LC Amsterdam
SUMMARY:PURE & HEALTHY ITALIAN COOKING
DESCRIPTION: If you want to eat in a healthier way and need some inspiration to prepare great\,  tasty dishes then this workshop is perfect for you:&nbsp;Italian cooking without wheat\,  gluten\,  cow’s milk dairy and added refined sugars.&nbsp;Vegetarian&nbsp;and even&nbsp;vegan&nbsp;(some of the recipes)! And yet very satisfying! From&nbsp;home-made gluten-free pastas&nbsp;to delicious main courses\, [..]\nhttps://www.cucinadelsole.nl/events/pure-healthy-italian-cooking-2/
URL:https://www.cucinadelsole.nl/events/pure-healthy-italian-cooking-2/
END:VEVENT
END:VCALENDAR