BEGIN:VCALENDAR
VERSION:2.0
PRODID:-//eventon.com NONSGML v1.0//EN
BEGIN:VEVENT
UID:69e76506ddc7b
DTSTAMP:20260421T135238
DTSTART:20210814T103000Z
DTEND:20210814T143000Z
TZID:Europe/Berlin
LOCATION:La Cucina del Sole Warmondstraat 180 1058 LC Amsterdam
SUMMARY:DE VENETIAANSE KEUKEN
DESCRIPTION: We maken polpettine di carne e patate (gefrituurde aardappel-vleesballetjes) en rotolini di zucchina ripieni (gevulde courgetterolletjes). Als primo piatto bereiden we gnocchi di zucca (pompoengnocchi met een delicate pesto van gemengde kruiden) en als secondo maken we de heerlijke pollo in tecia\,  gestoofde kip in tomatensaus op z’n Venetiaans geserveerd met een romige bijgerecht met wortelen en[..]\nhttps://www.cucinadelsole.nl/events/the-venetian-cuisine/
URL:https://www.cucinadelsole.nl/events/the-venetian-cuisine/
END:VEVENT
END:VCALENDAR