BEGIN:VCALENDAR
VERSION:2.0
PRODID:-//eventon.com NONSGML v1.0//EN
BEGIN:VEVENT
UID:69e75066ae58d
DTSTAMP:20260421T122438
DTSTART:20210814T103000Z
DTEND:20210814T143000Z
TZID:Europe/Berlin
LOCATION:La Cucina del Sole Warmondstraat 180 1058 LC Amsterdam
SUMMARY:THE VENETIAN CUISINE
DESCRIPTION: We prepare polpettine di carne e patate (fried meatballs with potatoes and mortadella) and rotolini di zucchine ripieni (little stuffed courgette rolls). Our primo piatto is gnocchi di zucca (pumpkin gnocchi with a delicate mixed herbs pesto). As a secondo we prepare the delicious pollo in tecia\,  braised chicken in tomato sauce the Venetian way served with a creamy carrot and pancetta side dish and[..]\nhttps://www.cucinadelsole.nl/events/the-venetian-cuisine/
URL:https://www.cucinadelsole.nl/events/the-venetian-cuisine/
END:VEVENT
END:VCALENDAR