BEGIN:VCALENDAR
VERSION:2.0
PRODID:-//eventon.com NONSGML v1.0//EN
BEGIN:VEVENT
UID:69e7653b8ff52
DTSTAMP:20260421T135331
DTSTART:20211007T180000Z
DTEND:20211007T223000Z
TZID:Europe/Berlin
LOCATION:La Cucina del Sole Warmondstraat 180 1058 LC Amsterdam
SUMMARY:DE PERFECTE RISOTTO
DESCRIPTION: We bereiden 4 gerechten: een risotto con mele e speck (heerlijke risotto met appel en speck)\,  de risotto ai frutti di mare (risotto met vongole – venusschelpjes – en garnalen)\,  een risotto met zwarte rijst\,  tomaat en basilicumcoulis en de vrolijke risotto con verdure di stagione in het voorjaar (met seizoensgroente en kaas) of[..]\nhttps://www.cucinadelsole.nl/events/the-perfect-risotto/
URL:https://www.cucinadelsole.nl/events/the-perfect-risotto/
END:VEVENT
END:VCALENDAR