BEGIN:VCALENDAR
VERSION:2.0
PRODID:-//eventon.com NONSGML v1.0//EN
BEGIN:VEVENT
UID:69e73ab913e77
DTSTAMP:20260421T105209
DTSTART:20211007T180000Z
DTEND:20211007T223000Z
TZID:Europe/Berlin
LOCATION:La Cucina del Sole Warmondstraat 180 1058 LC Amsterdam
SUMMARY:The Perfect Risotto
DESCRIPTION: We prepare 4 dishes: risotto con mele e speck (risotto with apples and speck)\,  risotto ai frutti di mare (with vongole\,  shrimp and herbs)\,  a risotto with black rice\,  tomato and basil coulis and the risotto con verdure di stagione (with season’s vegetables and cheese) in Spring/Summer or the wonderful risotto con zucca e funghi porcini (with pumpkin and porcini mushrooms) during[..]\nhttps://www.cucinadelsole.nl/events/the-perfect-risotto/
URL:https://www.cucinadelsole.nl/events/the-perfect-risotto/
END:VEVENT
END:VCALENDAR