BEGIN:VCALENDAR
VERSION:2.0
PRODID:-//eventon.com NONSGML v1.0//EN
BEGIN:VEVENT
UID:69e776ecc70c3
DTSTAMP:20260421T150900
DTSTART:20210610T180000Z
DTEND:20210610T223000Z
TZID:Europe/Berlin
LOCATION:La Cucina del Sole Warmondstraat 180 1058 LC Amsterdam
SUMMARY:De Siciliaanse keuken
DESCRIPTION: We beginnen met de heerlijke involtini di melanzane con spaghettini\,  rolletjes van gegrild aubergine gevuld met dunne spaghetti in een rijke tomaat- & gezouten ricotta saus. We gaan verder met de verrassende fuazza agli spinaci\,  een opgerolde focaccia (zie foto) gevuld met spinazie\,  olijven\,  knoflook en veel pecorino kaas. De pollo con peperonata[..]\nhttps://www.cucinadelsole.nl/events/the-sicilian-cuisine/
URL:https://www.cucinadelsole.nl/events/the-sicilian-cuisine/
END:VEVENT
END:VCALENDAR