BEGIN:VCALENDAR
VERSION:2.0
PRODID:-//eventon.com NONSGML v1.0//EN
BEGIN:VEVENT
UID:69eb59dc75590
DTSTAMP:20260424T135404
DTSTART:20210309T180000Z
DTEND:20210309T223000Z
TZID:UTC
LOCATION:La Cucina del Sole Warmondstraat 180 1058 LC Amsterdam
SUMMARY:Cooking course Basics of the Italian Cuisine TUE2 (4 lessons) LESSON 4
DESCRIPTION: Learn the basics of the Italian cuisine\,  from pasta & gnocchi to bread\,  risotto\,  panna cotta\,  antipasti\,  frittata\,  semifreddo and lots of other classics. Tuesday 16 & 23 February and 2 & 9 March 2021 For the complete program click on &#8220;Learn more&#8221;.\nhttps://www.cucinadelsole.nl/events/cooking-course-basics-of-the-italian-cuisine-tue2-4-lessons-lesson-4/
URL:https://www.cucinadelsole.nl/events/cooking-course-basics-of-the-italian-cuisine-tue2-4-lessons-lesson-4/
END:VEVENT
END:VCALENDAR