BEGIN:VCALENDAR
VERSION:2.0
PRODID:-//eventon.com NONSGML v1.0//EN
BEGIN:VEVENT
UID:69eb5a9363fe9
DTSTAMP:20260424T135707
DTSTART:20201020T180000Z
DTEND:20201020T223000Z
TZID:UTC
LOCATION:La Cucina del Sole Warmondstraat 180 1058 LC Amsterdam
SUMMARY:Cooking course Basics of the Italian Cuisine TUE (4 lessons) LESSON 2
DESCRIPTION: Learn the basics of the Italian cuisine\,  from pasta & gnocchi to bread\,  risotto\,  panna cotta\,  antipasti\,  frittata\,  semifreddo and lots of other classics. Tuesday 13\,  20 & 27 October and 3 November 2020 For the complete program click on &#8220;Learn more&#8221;.\nhttps://www.cucinadelsole.nl/events/cooking-course-basics-of-the-italian-cuisine-4-lessons-lesson-2-2/
URL:https://www.cucinadelsole.nl/events/cooking-course-basics-of-the-italian-cuisine-4-lessons-lesson-2-2/
END:VEVENT
END:VCALENDAR