BEGIN:VCALENDAR
VERSION:2.0
PRODID:-//eventon.com NONSGML v1.0//EN
BEGIN:VEVENT
UID:69e89c885c03a
DTSTAMP:20260422T120144
DTSTART:20201103T180000Z
DTEND:20201103T223000Z
TZID:UTC
LOCATION:La Cucina del Sole Warmondstraat 180 1058 LC Amsterdam
SUMMARY:KOOKCURSUS BASIS VAN DE ITALIAANSE KEUKEN DIN (4 LESSEN) LES 4
DESCRIPTION: Leer de basis van de Italiaanse keuken\,  van pasta & gnocchi tot brood\,  risotto\,  panna cotta\,  frittata\,  semifreddo en veel meer klassiekers. Dinsdag 13\,  20 & 27 oktober en 3 november 2020 Voor het complete programma klik op “Learn more”.\nhttps://www.cucinadelsole.nl/nl/events/kookcursus-basis-van-de-italiaanse-keuken-din-4-lessen-les-4/
URL:https://www.cucinadelsole.nl/nl/events/kookcursus-basis-van-de-italiaanse-keuken-din-4-lessen-les-4/
END:VEVENT
END:VCALENDAR