BEGIN:VCALENDAR
VERSION:2.0
PRODID:-//eventon.com NONSGML v1.0//EN
BEGIN:VEVENT
UID:69e79010b28ab
DTSTAMP:20260421T165616
DTSTART:20201121T103000Z
DTEND:20201121T143000Z
TZID:UTC
LOCATION:La Cucina del Sole Warmondstraat 180 1058 LC Amsterdam
SUMMARY:KOOKCURSUS BASIS VAN DE ITALIAANSE KEUKEN ZAT (4 LESSEN) LES 3
DESCRIPTION: Leer de basis van de Italiaanse keuken\,  van pasta & gnocchi tot brood\,  risotto\,  panna cotta\,  frittata\,  semifreddo en veel meer klassiekers. Zaterdag 31 oktober en 7\,  21 en 28 november 2020 Voor het complete programma klik op “Learn more”.\nhttps://www.cucinadelsole.nl/nl/events/kookcursus-basis-van-de-italiaanse-keuken-zat-4-lessen-les-3/
URL:https://www.cucinadelsole.nl/nl/events/kookcursus-basis-van-de-italiaanse-keuken-zat-4-lessen-les-3/
END:VEVENT
END:VCALENDAR