BEGIN:VCALENDAR
VERSION:2.0
PRODID:-//eventon.com NONSGML v1.0//EN
BEGIN:VEVENT
UID:69e77701532c5
DTSTAMP:20260421T150921
DTSTART:20201031T103000Z
DTEND:20201031T143000Z
TZID:UTC
LOCATION:La Cucina del Sole Warmondstraat 180 1058 LC Amsterdam
SUMMARY:KOOKCURSUS BASIS VAN DE ITALIAANSE KEUKEN ZAT (4 LESSEN) LES 1
DESCRIPTION: Leer de basis van de Italiaanse keuken\,  van pasta & gnocchi tot brood\,  risotto\,  panna cotta\,  frittata\,  semifreddo en veel meer klassiekers. Zaterdag 31 oktober en 7\,  21 en 28 november 2020 Voor het complete programma klik op “Learn more”.\nhttps://www.cucinadelsole.nl/events/cooking-course-basics-of-the-italian-cuisine-4-lessons-lesson-1-sat/
URL:https://www.cucinadelsole.nl/events/cooking-course-basics-of-the-italian-cuisine-4-lessons-lesson-1-sat/
END:VEVENT
END:VCALENDAR