BEGIN:VCALENDAR
VERSION:2.0
PRODID:-//eventon.com NONSGML v1.0//EN
BEGIN:VEVENT
UID:69e77ab75c59b
DTSTAMP:20260421T152511
DTSTART:20201105T180000Z
DTEND:20201105T223000Z
TZID:UTC
LOCATION:La Cucina del Sole Warmondstraat 180 1058 LC Amsterdam
SUMMARY:Koken met Italiaanse wijn
DESCRIPTION: Ben je dol op Italiaans eten en wijn en wil je je geliefde verrassen met een smakelijke date night? Of heerlijke recepten leren om thuis te maken voor je geliefde? Je kunt alleen komen of met je partner! Kom met ons koken op deze &#8220;wijnachtige&#8221; date night! We zullen een[..]\nhttps://www.cucinadelsole.nl/events/cooking-with-italian-wine/
URL:https://www.cucinadelsole.nl/events/cooking-with-italian-wine/
END:VEVENT
END:VCALENDAR