BEGIN:VCALENDAR
VERSION:2.0
PRODID:-//eventon.com NONSGML v1.0//EN
BEGIN:VEVENT
UID:69e77aa3cf223
DTSTAMP:20260421T152451
DTSTART:20201105T180000Z
DTEND:20201105T223000Z
TZID:UTC
LOCATION:La Cucina del Sole Warmondstraat 180 1058 LC Amsterdam
SUMMARY:Cooking with Italian Wine
DESCRIPTION: Do you love Italian food and wine and would you like to surprise your loved one with a tasty date night? Or learn some delicious recipes to cook at home for your loved one? You can come alone or with your date! Join us on this winey date night! We’ll prepare some wonderful[..]\nhttps://www.cucinadelsole.nl/events/cooking-with-italian-wine/
URL:https://www.cucinadelsole.nl/events/cooking-with-italian-wine/
END:VEVENT
END:VCALENDAR