BEGIN:VCALENDAR
VERSION:2.0
PRODID:-//eventon.com NONSGML v1.0//EN
BEGIN:VEVENT
UID:69e750d82d5d0
DTSTAMP:20260421T122632
DTSTART:20200828T180000Z
DTEND:20200828T223000Z
TZID:UTC
LOCATION:La Cucina del Sole Warmondstraat 180 1058 LC Amsterdam
SUMMARY:Pasta & Gnocchi Workshop
DESCRIPTION: Wil je pasta en gnocchi leren maken? Dan is deze kookworkshop voor jou! De hoofdthema’s zijn verse pasta en aardappelgnocchi en je leert alles hierover dankzij de tips en trucs van onze ervaren pastadeskundigen. Iedereen gaat een bolletje deeg maken met 2 soorten bloem en eieren. Daarna gaan we vier verschillende pastasoorten bereiden: ravioli gevuld met ricotta en[..]\nhttps://www.cucinadelsole.nl/events/pasta-gnocchi-workshop-28aug2020/
URL:https://www.cucinadelsole.nl/events/pasta-gnocchi-workshop-28aug2020/
END:VEVENT
END:VCALENDAR