BEGIN:VCALENDAR
VERSION:2.0
PRODID:-//eventon.com NONSGML v1.0//EN
BEGIN:VEVENT
UID:69e7c196e09b6
DTSTAMP:20260421T202734
DTSTART:20201111T180000Z
DTEND:20201111T223000Z
TZID:UTC
LOCATION:La Cucina del Sole Warmondstraat 180 1058 LC Amsterdam
SUMMARY:Cooking course Basics of the Italian Cuisine (4 lessons) LESSON 3
DESCRIPTION: Learn the basics of the Italian cuisine\,  from pasta & gnocchi to bread\,  risotto\,  panna cotta\,  antipasti\,  frittata\,  semifreddo and lots of other classics. Wednesday 14 & 28 October and 11 & 25 November 2020 For the complete program click on &#8220;Learn more&#8221;.\nhttps://www.cucinadelsole.nl/events/cooking-course-basics-of-the-italian-cuisine-4-lessons-lesson-3-2/
URL:https://www.cucinadelsole.nl/events/cooking-course-basics-of-the-italian-cuisine-4-lessons-lesson-3-2/
END:VEVENT
END:VCALENDAR