BEGIN:VCALENDAR
VERSION:2.0
PRODID:-//eventon.com NONSGML v1.0//EN
BEGIN:VEVENT
UID:69e9f6bddbf1c
DTSTAMP:20260423T123853
DTSTART:20201003T103000Z
DTEND:20201003T143000Z
TZID:UTC
LOCATION:La Cucina del Sole Warmondstraat 180 1058 LC Amsterdam
SUMMARY:Pizza workshop
DESCRIPTION: Learn how to make pizza like a pro! During this cooking class we prepare two types of dough: one for pizza romana (the thin-crusted one) and one for the pizza napoletana (the thicker one). For complete info on this workshop click on &#8220;Learn more&#8221;.\nhttps://www.cucinadelsole.nl/events/pizza-workshop-3october/
URL:https://www.cucinadelsole.nl/events/pizza-workshop-3october/
END:VEVENT
END:VCALENDAR