BEGIN:VCALENDAR
VERSION:2.0
PRODID:-//eventon.com NONSGML v1.0//EN
BEGIN:VEVENT
UID:69ea04fc7f01c
DTSTAMP:20260423T133940
DTSTART:20200613T103000Z
DTEND:20200613T143000Z
TZID:UTC
LOCATION:La Cucina del Sole Warmondstraat 180 1058 LC Amsterdam
SUMMARY:Vegan Italian workshop
DESCRIPTION: The recipes we prepare are perfect for those who never really liked meat and dairy and also for those who love them and miss them (we will use some great\,  totally natural substitutes that are going to satisfy you completely). For complete info on this workshop click on &#8220;Learn more&#8221;.\nhttps://www.cucinadelsole.nl/events/vegan-italian-workshop-13june/
URL:https://www.cucinadelsole.nl/events/vegan-italian-workshop-13june/
END:VEVENT
END:VCALENDAR